BEGIN:VCALENDAR
VERSION:2.0
PRODID:-//ChamberMaster//Event Calendar 2.0//EN
METHOD:PUBLISH
X-PUBLISHED-TTL:P3D
REFRESH-INTERVAL:P3D
CALSCALE:GREGORIAN
BEGIN:VEVENT
DTSTART:20140605T003000Z
DTEND:20140605T023000Z
X-MICROSOFT-CDO-ALLDAYEVENT:FALSE
SUMMARY:Free Triathlon Clinic at the Pratt Aquatic Center
DESCRIPTION:Free Triathlon Clinic
X-ALT-DESC;FMTTYPE=text/html:Free Triathlon&nbsp\;Clinic
LOCATION:55 N 200 W\, Tooele\, UT 84074
UID:e.125.5101
SEQUENCE:3
DTSTAMP:20260419T163440Z
URL:https://members.tooelechamber.com/events/details/free-triathlon-clinic-at-the-pratt-aquatic-center-06-04-2014-5101
END:VEVENT

END:VCALENDAR
