BEGIN:VCALENDAR
VERSION:2.0
PRODID:-//ChamberMaster//Event Calendar 2.0//EN
METHOD:PUBLISH
X-PUBLISHED-TTL:P3D
REFRESH-INTERVAL:P3D
CALSCALE:GREGORIAN
BEGIN:VEVENT
DTSTART:20140613T163000Z
DTEND:20140613T180000Z
X-MICROSOFT-CDO-ALLDAYEVENT:FALSE
SUMMARY:Friday at the Park: "Chalk It Up" at Rancho Park
DESCRIPTION:
X-ALT-DESC;FMTTYPE=text/html:
LOCATION:
UID:e.125.5311
SEQUENCE:3
DTSTAMP:20260419T162946Z
URL:https://members.tooelechamber.com/events/details/friday-at-the-park-chalk-it-up-at-rancho-park-06-13-2014-5311
END:VEVENT

END:VCALENDAR
