BEGIN:VCALENDAR
VERSION:2.0
PRODID:-//ChamberMaster//Event Calendar 2.0//EN
METHOD:PUBLISH
X-PUBLISHED-TTL:P3D
REFRESH-INTERVAL:P3D
CALSCALE:GREGORIAN
BEGIN:VEVENT
DTSTART:20140719T043000Z
DTEND:20140719T053000Z
X-MICROSOFT-CDO-ALLDAYEVENT:FALSE
SUMMARY:Friday at the Park: Exploring Science
DESCRIPTION:For Families of all ages. All youth must be accompanied by an adult. No Preregistration required! More info can be found at www.tooelecity.org. or call (435) 843-2142 or email terras@tooelecity.org
X-ALT-DESC;FMTTYPE=text/html:For Families of all ages. All youth must be accompanied by an adult. No&nbsp\;Preregistration&nbsp\;required! More info can be found at www.tooelecity.org. or call (435) 843-2142 or email terras@tooelecity.org
LOCATION:Sky Line Nature Park 600 E. 450 S.\, Tooele
UID:e.125.5350
SEQUENCE:3
DTSTAMP:20260419T142327Z
URL:https://members.tooelechamber.com/events/details/friday-at-the-park-exploring-science-07-18-2014-5350
END:VEVENT

END:VCALENDAR
