BEGIN:VCALENDAR
VERSION:2.0
PRODID:-//ChamberMaster//Event Calendar 2.0//EN
METHOD:PUBLISH
X-PUBLISHED-TTL:P3D
REFRESH-INTERVAL:P3D
CALSCALE:GREGORIAN
BEGIN:VEVENT
DTSTART:20140621T043000Z
DTEND:20140621T053000Z
X-MICROSOFT-CDO-ALLDAYEVENT:FALSE
SUMMARY:Friday at the Park: "Having a Ball" at Elton Park
DESCRIPTION:
X-ALT-DESC;FMTTYPE=text/html:
LOCATION:
UID:e.125.5321
SEQUENCE:3
DTSTAMP:20260419T182014Z
URL:https://members.tooelechamber.com/events/details/friday-at-the-park-having-a-ball-at-elton-park-06-20-2014-5321
END:VEVENT

END:VCALENDAR
