BEGIN:VCALENDAR
VERSION:2.0
PRODID:-//ChamberMaster//Event Calendar 2.0//EN
METHOD:PUBLISH
X-PUBLISHED-TTL:P3D
REFRESH-INTERVAL:P3D
CALSCALE:GREGORIAN
BEGIN:VEVENT
DTSTART:20140627T163000Z
DTEND:20140627T180000Z
X-MICROSOFT-CDO-ALLDAYEVENT:FALSE
SUMMARY:Friday at the Park: "summer Magic" With Magician Paul Brewer at the Swimmin Pool
DESCRIPTION:
X-ALT-DESC;FMTTYPE=text/html:
LOCATION:
UID:e.125.5332
SEQUENCE:3
DTSTAMP:20260419T163440Z
URL:https://members.tooelechamber.com/events/details/friday-at-the-park-summer-magic-with-magician-paul-brewer-at-the-swimmin-pool-06-27-2014-5332
END:VEVENT

END:VCALENDAR
