BEGIN:VCALENDAR
VERSION:2.0
PRODID:-//ChamberMaster//Event Calendar 2.0//EN
METHOD:PUBLISH
X-PUBLISHED-TTL:P3D
REFRESH-INTERVAL:P3D
CALSCALE:GREGORIAN
BEGIN:VEVENT
DTSTART:20100612T010000Z
DTEND:20100612T023000Z
X-MICROSOFT-CDO-ALLDAYEVENT:FALSE
SUMMARY:Fridays on Vine!!!
DESCRIPTION:Fridays on Vine - free concert in the park featuring Grantsville\, Tooele and Stansbury High School bands!
X-ALT-DESC;FMTTYPE=text/html:Fridays on Vine - free concert in the park featuring Grantsville\, Tooele and Stansbury High School bands!
LOCATION:Tooele City Park
UID:e.125.3190
SEQUENCE:3
DTSTAMP:20260423T031458Z
URL:https://members.tooelechamber.com/events/details/fridays-on-vine-06-11-2010-3190
END:VEVENT

END:VCALENDAR
