BEGIN:VCALENDAR
VERSION:2.0
PRODID:-//ChamberMaster//Event Calendar 2.0//EN
METHOD:PUBLISH
X-PUBLISHED-TTL:P3D
REFRESH-INTERVAL:P3D
CALSCALE:GREGORIAN
BEGIN:VEVENT
DTSTART;VALUE=DATE:20080725
DTEND;VALUE=DATE:20080726
TRANSP:TRANSPARENT
X-MICROSOFT-CDO-ALLDAYEVENT:TRUE
SUMMARY:Fridays on Vine
DESCRIPTION:Fridays on  VinePerformers: June 6th\, 2008-Joshua Creek ( Inspirational Country)June 13th\, 2008- Tooele County Choral Society ( Choir)June 20th\, 2008- Grantsville Music Company (Variety Show)July 11th\, 2008- Ahlstrom Western Band ( Western)July 18th\, 2008- T Minus 5 ( Capella Band)July 25th\, 2008- Wildflowers (A family & Friends Bluegrass Band)August 1st\, 2008- Sam Payne Project ( Contemporary Jazz)August 8th\, 2008- Taste of Polynesia ( Hula & Fire-Knife Dancers)August 15th\, 2008- Brieanna Wolfgramm (Youth Soloist Vocalist)August 22\, 2008- Ventooelequist/ Barbershop Bells(Ventriloquist & Womens Barbershop quartet)August 29th\, 2008- Painted Desert Band ( Country Music Band) No shows: June 27 ( Arts Festival) or July 4th.
X-ALT-DESC;FMTTYPE=text/html:<div>Fridays on&nbsp\; Vine</div><div>Performers:</div><div>&nbsp\;</div><div>June 6th\, 2008-Joshua Creek ( Inspirational Country)</div><div>June 13th\, 2008- Tooele County Choral Society ( Choir)</div><div>June 20th\, 2008- Grantsville Music Company (Variety Show)</div><div>July 11th\, 2008- Ahlstrom Western Band ( Western)</div><div>July 18th\, 2008- T Minus 5 ( Capella Band)</div><div>July 25th\, 2008- Wildflowers (A family &amp\; Friends Bluegrass Band)</div><div>August 1st\, 2008- Sam Payne Project ( Contemporary Jazz)</div><div>August 8th\, 2008- Taste of Polynesia ( Hula &amp\; Fire-Knife Dancers)</div><div>August 15th\, 2008- Brieanna Wolfgramm (Youth Soloist Vocalist)</div><div>August 22\, 2008- Ventooelequist/ Barbershop Bells(Ventriloquist &amp\; Womens Barbershop quartet)</div><div>August 29th\, 2008- Painted Desert Band ( Country Music Band)</div><div>&nbsp\;</div><div>No shows: June 27 ( Arts Festival) or July 4th.</div>
LOCATION:Veterans Memorial ParkVine & Main\, Tooele
UID:e.125.366
SEQUENCE:3
DTSTAMP:20260424T155205Z
URL:https://members.tooelechamber.com/events/details/fridays-on-vine-07-25-2008-366
END:VEVENT

END:VCALENDAR
