BEGIN:VCALENDAR
VERSION:2.0
PRODID:-//ChamberMaster//Event Calendar 2.0//EN
METHOD:PUBLISH
X-PUBLISHED-TTL:P3D
REFRESH-INTERVAL:P3D
CALSCALE:GREGORIAN
BEGIN:VEVENT
DTSTART;VALUE=DATE:20110805
DTEND;VALUE=DATE:20110806
TRANSP:TRANSPARENT
X-MICROSOFT-CDO-ALLDAYEVENT:TRUE
SUMMARY:Fridays on Vine
DESCRIPTION:Fridays on Vine\n\n	June - August\n\n	Tooele City Park\n\n	Contact: 435-843-2104\n\n	www.tooelecity.org
X-ALT-DESC;FMTTYPE=text/html:<p style="text-align: center">\n	<span style="font-size: 20px">Fridays on Vine<br />\n	June - August<br />\n	Tooele City Park<br />\n	Contact: 435-843-2104<br />\n	<a href="http://www.tooelecity.org">www.tooelecity.org</a> </span></p>\n
LOCATION:
UID:e.125.3529
SEQUENCE:3
DTSTAMP:20260422T043443Z
URL:https://members.tooelechamber.com/events/details/fridays-on-vine-08-05-2011-3529
END:VEVENT

END:VCALENDAR
