BEGIN:VCALENDAR
VERSION:2.0
PRODID:-//ChamberMaster//Event Calendar 2.0//EN
METHOD:PUBLISH
X-PUBLISHED-TTL:P3D
REFRESH-INTERVAL:P3D
CALSCALE:GREGORIAN
BEGIN:VEVENT
DTSTART:20130810T010000Z
DTEND:20130810T030000Z
X-MICROSOFT-CDO-ALLDAYEVENT:FALSE
SUMMARY:Fridays on Vine
DESCRIPTION:Fridays on Vine\n\nExit 99
X-ALT-DESC;FMTTYPE=text/html:<span style="font-size: 20px">Fridays on Vine<br />\nExit 99 </span><br />\n<br />\n
LOCATION:
UID:e.125.5038
SEQUENCE:3
DTSTAMP:20260420T112858Z
URL:https://members.tooelechamber.com/events/details/fridays-on-vine-08-09-2013-5038
END:VEVENT

END:VCALENDAR
