BEGIN:VCALENDAR
VERSION:2.0
PRODID:-//ChamberMaster//Event Calendar 2.0//EN
METHOD:PUBLISH
X-PUBLISHED-TTL:P3D
REFRESH-INTERVAL:P3D
CALSCALE:GREGORIAN
BEGIN:VEVENT
DTSTART:20120818T010000Z
DTEND:20120818T030000Z
X-MICROSOFT-CDO-ALLDAYEVENT:FALSE
SUMMARY:Fridays on Vine
DESCRIPTION:August 17 @ 7pm\n\nTooele City Park\n\nFree concert series featuring Charley Jenkins
X-ALT-DESC;FMTTYPE=text/html:<strong><span style="font-size: 16px">August 17 @ 7pm<br />\nTooele City Park<br />\nFree concert series featuring Charley Jenkins<br />\n</span></strong>
LOCATION:
UID:e.125.4878
SEQUENCE:3
DTSTAMP:20260421T091547Z
URL:https://members.tooelechamber.com/events/details/fridays-on-vine-08-17-2012-4878
END:VEVENT

END:VCALENDAR
