BEGIN:VCALENDAR
VERSION:2.0
PRODID:-//ChamberMaster//Event Calendar 2.0//EN
METHOD:PUBLISH
X-PUBLISHED-TTL:P3D
REFRESH-INTERVAL:P3D
CALSCALE:GREGORIAN
BEGIN:VEVENT
DTSTART:20120901T010000Z
DTEND:20120901T030000Z
X-MICROSOFT-CDO-ALLDAYEVENT:FALSE
SUMMARY:Fridays on Vine
DESCRIPTION:August 31@ 7pm\n\nTooele City Park\n\nFree Concert series featuring Imagine.
X-ALT-DESC;FMTTYPE=text/html:<strong><span style="font-size: 18px">August 31@ 7pm<br />\nTooele City Park<br />\nFree Concert series featuring <em>Imagine.</em></span></strong>
LOCATION:
UID:e.125.4881
SEQUENCE:3
DTSTAMP:20260421T091547Z
URL:https://members.tooelechamber.com/events/details/fridays-on-vine-08-31-2012-4881
END:VEVENT

END:VCALENDAR
