BEGIN:VCALENDAR
VERSION:2.0
PRODID:-//ChamberMaster//Event Calendar 2.0//EN
METHOD:PUBLISH
X-PUBLISHED-TTL:P3D
REFRESH-INTERVAL:P3D
CALSCALE:GREGORIAN
BEGIN:VEVENT
DTSTART:20140726T010000Z
DTEND:20140726T055500Z
X-MICROSOFT-CDO-ALLDAYEVENT:FALSE
SUMMARY:Fridays On Vine: Buckaroo Balladeers
DESCRIPTION:The Buckaroo Balladeers are one of Western Ballads\, The Buckaroo Balladeers are deeply rooted in the Cowboy lifestyle and live it every day. Their music is known not only across the U.S.\, but in Canada\, Australia and throughout Europe.
X-ALT-DESC;FMTTYPE=text/html:The Buckaroo Balladeers are one of Western Ballads\, The Buckaroo Balladeers are deeply rooted in the Cowboy lifestyle and live it every day. Their music is known not only across the U.S.\, but in Canada\, Australia and throughout Europe.
LOCATION:Swimming Pool Park 55 North 200 West\, Tooele
UID:e.125.5355
SEQUENCE:3
DTSTAMP:20260419T142854Z
URL:https://members.tooelechamber.com/events/details/fridays-on-vine-buckaroo-balladeers-07-25-2014-5355
END:VEVENT

END:VCALENDAR
