BEGIN:VCALENDAR
VERSION:2.0
PRODID:-//ChamberMaster//Event Calendar 2.0//EN
METHOD:PUBLISH
X-PUBLISHED-TTL:P3D
REFRESH-INTERVAL:P3D
CALSCALE:GREGORIAN
BEGIN:VEVENT
DTSTART:20100710T010000Z
DTEND:20100710T023000Z
X-MICROSOFT-CDO-ALLDAYEVENT:FALSE
SUMMARY:Fridays on Vine featuring Sticks and Stones
DESCRIPTION:Fridays on Vine - free concert featuring Sticks & Stones
X-ALT-DESC;FMTTYPE=text/html:Fridays on Vine - free concert featuring Sticks & Stones
LOCATION:Tooele City Park
UID:e.125.3191
SEQUENCE:3
DTSTAMP:20260423T031259Z
URL:https://members.tooelechamber.com/events/details/fridays-on-vine-featuring-sticks-and-stones-07-09-2010-3191
END:VEVENT

END:VCALENDAR
