BEGIN:VCALENDAR
VERSION:2.0
PRODID:-//ChamberMaster//Event Calendar 2.0//EN
METHOD:PUBLISH
X-PUBLISHED-TTL:P3D
REFRESH-INTERVAL:P3D
CALSCALE:GREGORIAN
BEGIN:VEVENT
DTSTART:20140614T010000Z
DTEND:20140614T020000Z
X-MICROSOFT-CDO-ALLDAYEVENT:FALSE
SUMMARY:Fridays on Vine "Truman Brothers" at the Swimming Pool Park
DESCRIPTION:
X-ALT-DESC;FMTTYPE=text/html:
LOCATION:
UID:e.125.5312
SEQUENCE:3
DTSTAMP:20260419T163547Z
URL:https://members.tooelechamber.com/events/details/fridays-on-vine-truman-brothers-at-the-swimming-pool-park-06-13-2014-5312
END:VEVENT

END:VCALENDAR
