BEGIN:VCALENDAR
VERSION:2.0
PRODID:-//ChamberMaster//Event Calendar 2.0//EN
METHOD:PUBLISH
X-PUBLISHED-TTL:P3D
REFRESH-INTERVAL:P3D
CALSCALE:GREGORIAN
BEGIN:VEVENT
DTSTART:20140227T020000Z
DTEND:20140227T030000Z
X-MICROSOFT-CDO-ALLDAYEVENT:FALSE
SUMMARY:Fruit Tree Pruning Class
DESCRIPTION:Fruit Tree Pruning Class - February 26th!  Learn how to prune backyard fruit trees for health and productivity.  Taught by experienced orchardist and retired USU Extension Agent Wade Bitner\, you'll have a great evening learning how to care for popular home orchard trees\, including apple\, pear\, cherry\, apricot\, peach and nectarine.  Hosted by the Master Gardeners at no charge at the USU Extension Office\, 151 N. Main\, Tooele\, from 7 PM to 8 PM\, Feb. 26th.  For more information call Jay Cooper at 435-830-1447 or jay@dirtfarmerjay.com.
X-ALT-DESC;FMTTYPE=text/html:<strong><span style="font-family:arial\,sans-serif\;"><span style="font-size:12.0pt\;">Fruit Tree Pruning Class - February 26th!</span></span></strong><span style="font-family:arial\,sans-serif\;"><span style="font-size:12.0pt\;">&nbsp\;&nbsp\;Learn how to prune backyard fruit trees for health and productivity. &nbsp\;Taught by experienced orchardist and retired USU Extension Agent Wade Bitner\, you&#39\;ll have a great evening learning how to care for popular home orchard trees\, including apple\, pear\, cherry\, apricot\, peach and nectarine. &nbsp\;Hosted by the Master Gardeners at no charge at the USU Extension Office\, 151 N. Main\, Tooele\, from 7 PM to 8 PM\, Feb. 26th. &nbsp\;For more information call Jay Cooper at&nbsp\;</span></span><a href="tel:435-830-1447" target="_blank"><span style="color:#1155cc\;"><span style="font-family:arial\,sans-serif\;"><span style="font-size:12.0pt\;">435-830-1447</span></span></span></a><span style="font-family:arial\,sans-serif\;"><span style="font-size:12.0pt\;">&nbsp\;or&nbsp\;</span></span><a href="mailto:jay@dirtfarmerjay.com" target="_blank"><span style="color:#1155cc\;"><span style="font-family:arial\,sans-serif\;"><span style="font-size:12.0pt\;">jay@dirtfarmerjay.com</span></span></span></a><span style="font-family:arial\,sans-serif\;"><span style="font-size:12.0pt\;">.</span></span><br />\n
LOCATION:
UID:e.125.5068
SEQUENCE:3
DTSTAMP:20260420T000044Z
URL:https://members.tooelechamber.com/events/details/fruit-tree-pruning-class-02-26-2014-5068
END:VEVENT

END:VCALENDAR
