BEGIN:VCALENDAR
VERSION:2.0
PRODID:-//ChamberMaster//Event Calendar 2.0//EN
METHOD:PUBLISH
X-PUBLISHED-TTL:P3D
REFRESH-INTERVAL:P3D
CALSCALE:GREGORIAN
BEGIN:VEVENT
DTSTART;VALUE=DATE:20090618
DTEND;VALUE=DATE:20090619
TRANSP:TRANSPARENT
X-MICROSOFT-CDO-ALLDAYEVENT:TRUE
SUMMARY:Fun at the Mill: Benson Gristmill
DESCRIPTION:Fun at the Mill: Benson GristmillContact: 435-882-7678www.bensonmill.org
X-ALT-DESC;FMTTYPE=text/html:<div><font face="Frutiger-LightCn" size="1"><font face="Frutiger-LightCn" size="1"><p align="center"><font size="4">Fun at the Mill: Benson Gristmill</font></p><p align="center"><font size="4">Contact: 435-882-7678</font></p><p align="center"><font size="4">www.bensonmill.org</font></p></font></font></div>
LOCATION:
UID:e.125.622
SEQUENCE:3
DTSTAMP:20260423T230228Z
URL:https://members.tooelechamber.com/events/details/fun-at-the-mill-benson-gristmill-06-18-2009-622
END:VEVENT

END:VCALENDAR
