BEGIN:VCALENDAR
VERSION:2.0
PRODID:-//ChamberMaster//Event Calendar 2.0//EN
METHOD:PUBLISH
X-PUBLISHED-TTL:P3D
REFRESH-INTERVAL:P3D
CALSCALE:GREGORIAN
BEGIN:VEVENT
DTSTART:20100717T233000Z
DTEND:20100718T030000Z
X-MICROSOFT-CDO-ALLDAYEVENT:FALSE
SUMMARY:Fundraiser Event
DESCRIPTION:Fundraiser Event for All proceeds go to Kendall McBride\, who has Cystic Fibrosis\; the funds are being raised for transplant-related expenses Saturday\, July 17\, 2010 @ 5:30-9pm Location: Elton Park\, Pavillion #3There will be a bounce house for the kids provided by Jumpin' Jack Splash. Also there will be bingo. Play for a chance to win some GREAT prizes!!Bring the whole family for some fun!! All it takes 1 to 2 hours out of your busy life to make a huge difference in someone else's
X-ALT-DESC;FMTTYPE=text/html:<div><p style="text-align: center"><span style="font-size: medium"><u><strong><span lang="EN" style="font-family: &quot\;Tahoma&quot\;\,&quot\;sans-serif&quot\;\; color: #333333\; font-weight: normal\; mso-fareast-font-family: 'Times New Roman'\; mso-ansi-language: EN">Fundraiser Event for </span></strong></u></span></p><p style="text-align: center"><span style="font-size: medium"><span lang="EN" style="font-family: &quot\;Tahoma&quot\;\,&quot\;sans-serif&quot\;\; color: #333333\; font-weight: normal\; mso-fareast-font-family: 'Times New Roman'\; mso-ansi-language: EN">All proceeds go to Kendall McBride\, who has Cystic Fibrosis\; the funds are being raised for transplant-related expenses&nbsp\;</span></span></p><p style="text-align: center"><span style="font-size: medium">Saturday\, July 17\, 2010 @&nbsp\;5:30-9pm </span></p><p style="text-align: center"><span style="font-size: medium">Location: Elton Park\, Pavillion #3</span></p><p style="text-align: center"><span style="font-size: medium">There will be a bounce house for the kids&nbsp\;provided by Jumpin' Jack Splash. Also there will be bingo. Play for a chance to win some GREAT prizes!!</span></p><p style="text-align: center"><span style="font-size: medium">Bring the whole family for some fun!!&nbsp\;All it&nbsp\;takes 1 to 2 hours out of your busy&nbsp\;life to make a huge difference in someone else's</span></p></div>
LOCATION:
UID:e.125.3210
SEQUENCE:3
DTSTAMP:20260423T013406Z
URL:https://members.tooelechamber.com/events/details/fundraiser-event-07-17-2010-3210
END:VEVENT

END:VCALENDAR
