BEGIN:VCALENDAR
VERSION:2.0
PRODID:-//ChamberMaster//Event Calendar 2.0//EN
METHOD:PUBLISH
X-PUBLISHED-TTL:P3D
REFRESH-INTERVAL:P3D
CALSCALE:GREGORIAN
BEGIN:VEVENT
DTSTART:20100522T143000Z
DTEND:20100522T180000Z
X-MICROSOFT-CDO-ALLDAYEVENT:FALSE
SUMMARY:Fundraiser Event - St. Marguerite's New Catholic School
DESCRIPTION:Fundraiser Event - Proceeds will help St. Marguerite's New Catholic SchoolSaturday\, May 22\, 20104 Person Golf Scramble - Oquirrh Hills Golf Course$50 per person - 8:30 shotgun start (includes 18 holes/golf cart/lunch at Moose Lodge)PLEASE SIGN UP AT THE MOOSE LODGE!Donations needed: Raffle prizesHole sponsors - $50Sign at hole advertising your support!For additional information please contact: Jo Bevan (435)850-9511\, jbevan@utah.gov or Diane McArthur (801)231-9707\, diane.mcarthur@noaa.gov
X-ALT-DESC;FMTTYPE=text/html:<div style="text-align: center"><u><strong><span style="font-size: large">Fundraiser Event - Proceeds will help St. Marguerite's New Catholic School</span></strong></u></div><div style="text-align: center"><span style="font-size: medium">Saturday\, May 22\, 2010</span></div><div style="text-align: center"><span style="font-size: medium">4 Person Golf Scramble - Oquirrh Hills Golf Course</span></div><div style="text-align: center"><span style="font-size: medium">$50 per person - 8:30 shotgun start </span></div><div style="text-align: center"><span style="font-size: medium">(includes 18 holes/golf cart/lunch at Moose Lodge)</span></div><div style="text-align: center"><span style="background-color: #ffff00"><u><strong><span style="font-size: medium">PLEASE SIGN UP AT THE MOOSE LODGE!</span></strong></u></span></div><div style="text-align: center"><span style="font-size: medium">Donations needed: Raffle prizes</span></div><div style="text-align: center"><span style="font-size: medium">Hole sponsors - $50</span></div><div style="text-align: center"><span style="font-size: medium">Sign at hole advertising your support!</span></div><div style="text-align: center"><span style="font-size: medium">For additional information please contact: </span></div><div style="text-align: center"><span style="font-size: medium">Jo Bevan (435)850-9511\, </span><a href="mailto:jbevan@utah.gov"><span style="font-size: medium">jbevan@utah.gov</span></a><span style="font-size: medium"> or </span></div><div style="text-align: center"><span style="font-size: medium">Diane McArthur (801)231-9707\, </span><a href="mailto:diane.mcarthur@noaa.gov"><span style="font-size: medium">diane.mcarthur@noaa.gov</span></a></div>
LOCATION:
UID:e.125.3128
SEQUENCE:3
DTSTAMP:20260423T045019Z
URL:https://members.tooelechamber.com/events/details/fundraiser-event-st-marguerite-s-new-catholic-school-05-22-2010-3128
END:VEVENT

END:VCALENDAR
