BEGIN:VCALENDAR
VERSION:2.0
PRODID:-//ChamberMaster//Event Calendar 2.0//EN
METHOD:PUBLISH
X-PUBLISHED-TTL:P3D
REFRESH-INTERVAL:P3D
CALSCALE:GREGORIAN
BEGIN:VEVENT
DTSTART;VALUE=DATE:20080928
DTEND;VALUE=DATE:20080929
TRANSP:TRANSPARENT
X-MICROSOFT-CDO-ALLDAYEVENT:TRUE
SUMMARY:Golf for Ivy
DESCRIPTION:Two month old Ivy Waters was diagnosed with cystic fibrosis. Ivy's proud parents are Nick and Courtney Waters. Nick works as the Assistant Golf Professional at Oquirrh Hills Golf Course. Young & Beautiful Ivy spent two weeks in the hospital\, after being diagnosed. While she was there she fought spinal meningitis and received two blood transfusions and a spinal tap. Oquirrh Hills Golf Course is hosting a fundraiser golf tournament to help this wonderful family.  The family spent fourteen days at Primary Childrens Hospital\, there expenses will exceed ten thousand dollars. They are looking for participation\, prize donations\, and fifty dollar hole sponsors. Cost: Green Fee $17\,  Cart $10\,and $13.00 entry\, includes Lunch To sign up callOquirrh Hills Golf Course435-882-4220
X-ALT-DESC;FMTTYPE=text/html:<div align="center">Two month old Ivy Waters was diagnosed with cystic fibrosis. Ivy's proud parents are Nick and Courtney Waters. Nick works as the Assistant Golf Professional at Oquirrh Hills Golf Course.</div><div align="center">&nbsp\;</div><div align="center">Young &amp\; Beautiful Ivy spent two weeks in the hospital\, after being diagnosed. While she was there she fought spinal meningitis and received two blood transfusions and a spinal tap.</div><div align="center">&nbsp\;</div><div align="center">Oquirrh Hills Golf Course is&nbsp\;hosting a fundraiser golf tournament to help this wonderful family.&nbsp\;&nbsp\;The family spent fourteen days at Primary Childrens Hospital\, there expenses will exceed&nbsp\;ten thousand dollars.</div><div align="center">&nbsp\;</div><div align="center">They are looking for participation\, prize donations\, and fifty dollar hole sponsors.</div><div align="center">&nbsp\;</div><div align="center">Cost: Green Fee $17\, &nbsp\;Cart $10\,</div><div align="center">and $13.00 entry\, includes Lunch</div><div align="center">&nbsp\;</div><div align="center">To sign up call</div><div align="center">Oquirrh Hills Golf Course</div><div align="center">435-882-4220</div>
LOCATION:
UID:e.125.470
SEQUENCE:3
DTSTAMP:20260424T135113Z
URL:https://members.tooelechamber.com/events/details/golf-for-ivy-09-28-2008-470
END:VEVENT

END:VCALENDAR
