BEGIN:VCALENDAR
VERSION:2.0
PRODID:-//ChamberMaster//Event Calendar 2.0//EN
METHOD:PUBLISH
X-PUBLISHED-TTL:P3D
REFRESH-INTERVAL:P3D
CALSCALE:GREGORIAN
BEGIN:VEVENT
DTSTART;VALUE=DATE:20070615
DTEND;VALUE=DATE:20070616
TRANSP:TRANSPARENT
X-MICROSOFT-CDO-ALLDAYEVENT:TRUE
SUMMARY:Golf Tournament
DESCRIPTION:Come and Join Us for the Tooele County Chamber of Commerce annual Golf Tournament!
X-ALT-DESC;FMTTYPE=text/html:Come and Join Us for the Tooele County Chamber of Commerce annual Golf Tournament!
LOCATION:Oquirrh Hills Golf Course in Tooele
UID:e.125.82
SEQUENCE:3
DTSTAMP:20260425T113853Z
URL:https://members.tooelechamber.com/events/details/golf-tournament-06-15-2007-82
END:VEVENT

END:VCALENDAR
