BEGIN:VCALENDAR
VERSION:2.0
PRODID:-//ChamberMaster//Event Calendar 2.0//EN
METHOD:PUBLISH
X-PUBLISHED-TTL:P3D
REFRESH-INTERVAL:P3D
CALSCALE:GREGORIAN
BEGIN:VEVENT
DTSTART:20100604T010000Z
DTEND:20100604T030000Z
X-MICROSOFT-CDO-ALLDAYEVENT:FALSE
SUMMARY:Graduation Ceremony
DESCRIPTION:Graduation Ceremony Stansbury High School 7:00pm John M. Huntsman Center1825 East Campus Drive Salt Lake City Utah
X-ALT-DESC;FMTTYPE=text/html:<div style="text-align: center"><span style="font-size: medium"><strong><u>Graduation Ceremony </u></strong></span></div><div style="text-align: center"><span style="font-size: medium">Stansbury High School </span></div><div style="text-align: center"><span style="font-size: medium">7:00pm </span></div><div style="text-align: center"><span style="font-size: medium">John M. Huntsman Center</span></div><div style="text-align: center"><span style="font-size: medium">1825 East Campus Drive </span></div><div style="text-align: center"><span style="font-size: medium">Salt Lake City Utah </span></div>
LOCATION:
UID:e.125.3178
SEQUENCE:3
DTSTAMP:20260423T032151Z
URL:https://members.tooelechamber.com/events/details/graduation-ceremony-06-03-2010-3178
END:VEVENT

END:VCALENDAR
