BEGIN:VCALENDAR
VERSION:2.0
PRODID:-//ChamberMaster//Event Calendar 2.0//EN
METHOD:PUBLISH
X-PUBLISHED-TTL:P3D
REFRESH-INTERVAL:P3D
CALSCALE:GREGORIAN
BEGIN:VEVENT
DTSTART:20100603T220000Z
DTEND:20100604T010000Z
X-MICROSOFT-CDO-ALLDAYEVENT:FALSE
SUMMARY:Graduation Ceremony
DESCRIPTION:Graduation Cermony Tooele High School 4:00pmLocation: John M. Huntsman Center 1825 East Campus Drive Salt Lake City\, Utah
X-ALT-DESC;FMTTYPE=text/html:<div style="text-align: center"><u><strong><span style="font-size: medium">Graduation Cermony </span></strong></u></div><div style="text-align: center"><span style="font-size: medium">Tooele High School </span></div><div style="text-align: center"><span style="font-size: medium">4:00pm</span></div><div style="text-align: center"><span style="font-size: medium">Location: John M. Huntsman Center </span></div><div style="text-align: center"><span style="font-size: medium">1825 East Campus Drive </span></div><div style="text-align: center"><span style="font-size: medium">Salt Lake City\, Utah </span></div>
LOCATION:
UID:e.125.597
SEQUENCE:3
DTSTAMP:20260423T032242Z
URL:https://members.tooelechamber.com/events/details/graduation-ceremony-06-03-2010-597
END:VEVENT

END:VCALENDAR
