BEGIN:VCALENDAR
VERSION:2.0
PRODID:-//ChamberMaster//Event Calendar 2.0//EN
METHOD:PUBLISH
X-PUBLISHED-TTL:P3D
REFRESH-INTERVAL:P3D
CALSCALE:GREGORIAN
BEGIN:VEVENT
DTSTART;VALUE=DATE:20100604
DTEND;VALUE=DATE:20100605
TRANSP:TRANSPARENT
X-MICROSOFT-CDO-ALLDAYEVENT:TRUE
SUMMARY:Graduation Ceremony.
DESCRIPTION:Graduation Ceremony.TCSD Adult Education
X-ALT-DESC;FMTTYPE=text/html:<div><font face="Frutiger-LightCn" size="1"><font face="Frutiger-LightCn" size="1"><p align="center"><font size="4">Graduation Ceremony.</font></p><p align="center"><font size="4">TCSD Adult Education</font></p></font></font></div>
LOCATION:
UID:e.125.599
SEQUENCE:3
DTSTAMP:20260423T031458Z
URL:https://members.tooelechamber.com/events/details/graduation-ceremony-06-04-2010-599
END:VEVENT

END:VCALENDAR
