BEGIN:VCALENDAR
VERSION:2.0
PRODID:-//ChamberMaster//Event Calendar 2.0//EN
METHOD:PUBLISH
X-PUBLISHED-TTL:P3D
REFRESH-INTERVAL:P3D
CALSCALE:GREGORIAN
BEGIN:VEVENT
DTSTART;VALUE=DATE:20100602
DTEND;VALUE=DATE:20100603
TRANSP:TRANSPARENT
X-MICROSOFT-CDO-ALLDAYEVENT:TRUE
SUMMARY:Graduation Ceremony. Tooele High
DESCRIPTION:Graduation Ceremony. Tooele HighSchool\, Stansbury High School\, Wendover High
X-ALT-DESC;FMTTYPE=text/html:<div><font face="Frutiger-LightCn" size="1"><font face="Frutiger-LightCn" size="1"><p align="center"><font size="5">Graduation Ceremony. Tooele High</font></p><p align="center"><font size="5">School\,&nbsp\;Stansbury High School\, Wendover</font><font size="5"> High</font></p></font></font></div>
LOCATION:
UID:e.125.598
SEQUENCE:3
DTSTAMP:20260423T044808Z
URL:https://members.tooelechamber.com/events/details/graduation-ceremony-tooele-high-06-02-2010-598
END:VEVENT

END:VCALENDAR
