BEGIN:VCALENDAR
VERSION:2.0
PRODID:-//ChamberMaster//Event Calendar 2.0//EN
METHOD:PUBLISH
X-PUBLISHED-TTL:P3D
REFRESH-INTERVAL:P3D
CALSCALE:GREGORIAN
BEGIN:VEVENT
DTSTART:20110716T173000Z
DTEND:20110716T203000Z
X-MICROSOFT-CDO-ALLDAYEVENT:FALSE
SUMMARY:Grand Opening & Ribbon Cutting
DESCRIPTION:Grand Opening & Ribbon Cutting\n\n	Saturday\, July 13\, 2011 from 11:30am-2:30pm\n\n	Birch Family Pharmacy's 2nd Location\n\n	213 East Main Street\, Grantsville
X-ALT-DESC;FMTTYPE=text/html:<p style="text-align: center">\n	<span style="font-family: tahoma"><span style="font-size: 26px"><em><strong>Grand Opening &amp\; Ribbon Cutting</strong></em><br />\n	Saturday\, July 13\, 2011 from 11:30am-2:30pm<br />\n	Birch Family Pharmacy&#39\;s 2nd Location<br />\n	213 East Main Street\, Grantsville </span></span><br />\n	<br />\n	&nbsp\;</p>\n
LOCATION:
UID:e.125.3729
SEQUENCE:3
DTSTAMP:20260422T061042Z
URL:https://members.tooelechamber.com/events/details/grand-opening-ribbon-cutting-07-16-2011-3729
END:VEVENT

END:VCALENDAR
