BEGIN:VCALENDAR
VERSION:2.0
PRODID:-//ChamberMaster//Event Calendar 2.0//EN
METHOD:PUBLISH
X-PUBLISHED-TTL:P3D
REFRESH-INTERVAL:P3D
CALSCALE:GREGORIAN
BEGIN:VEVENT
DTSTART:20121124T220000Z
DTEND:20121125T010000Z
X-MICROSOFT-CDO-ALLDAYEVENT:FALSE
SUMMARY:Gransville Parade
DESCRIPTION:Come Celebrate a Day of Christmas Fun!\n\n	Saturday\,November 24\, 2012\n\n	 \n\n	Santa is Coming To Town!\n\n	Annual Grantsville Santa Parade at 3:00 p.m.\n\n	 \n\n	\n\n	 \n\n	The parade will begin at the Grantsville City Hall\n\n	and continue west on Main Street\n\n	to Academy Square (Fire Station) 26 N. Center Street\n\n	 \n\n	FreeCookies                      Meet Santa\n\n	FreeHot Chocolate            after the parade\n\n	FreeCandy Canes                        at the Fire Station!\n\n	 \n\n	Lighting Ceremony\n\n	Will be held after the parade at approximately 6:00 p.m.\n\n	Academy Square\, 26 N. Center Street\n\n	(Corner of Main and Center Street)\n\n	 \n\n	Book Fair for the Grantsville City Library\n\n	The book fair will be held at the Grantsville Fire Station from 3:00 p.m. - 6:00 p.m. All proceeds will go to supply new books for the Grantsville Library. \n\n	Get a jumpstart on your Christmas shopping and help support the new library.  \n\n	Let's celebrate reading! \n\n	 \n\n	Come meet Santa Claus\, stop by the Book Fair to support our new library and enjoy the lighting of the Christmas Lights!\n\n	Click here to edit...
X-ALT-DESC;FMTTYPE=text/html:<div style="color: gray">\n	<span style="color: #008000">&nbsp\;<span style="font-variant: small-caps"><span style="font-size: 16pt"><span style="font-family: britannic bold\,sans-serif">Come Celebrate a Day of Christmas Fun!</span></span></span></span><br />\n	<span style="color: #ff0000"><span style="font-size: 16pt"><span style="font-family: britannic bold\,sans-serif">Saturday\,</span></span><span style="font-size: 16pt"><span style="font-family: britannic bold\,sans-serif">November 24\, 2012</span></span><br />\n	&nbsp\;<br />\n	<span style="font-size: 14pt"><span style="font-family: times new roman\,serif">Santa is Coming To Town!</span></span><br />\n	<span style="font-size: 14pt"><span style="font-family: times new roman\,serif">Annual Grantsville </span></span></span><span style="color: #008000"><span style="font-size: 14pt"><span style="font-family: britannic bold\,sans-serif">Santa </span></span><span style="font-size: 14pt"><span style="font-family: britannic bold\,sans-serif">Parade </span></span></span><span style="color: #ff0000"><span style="font-size: 14pt"><span style="font-family: times new roman\,serif">at</span></span><span style="font-size: 14pt"><span style="font-family: times new roman\,serif"> 3:00 p.m.</span></span><br />\n	&nbsp\;<br />\n	<br />\n	&nbsp\;<br />\n	<span style="font-size: 14pt"><span style="font-family: times new roman\,serif">The parade will begin at the Grantsville City Hall</span></span><br />\n	<span style="font-size: 14pt"><span style="font-family: times new roman\,serif">and continue west on Main Street</span></span><br />\n	<span style="font-size: 14pt"><span style="font-family: times new roman\,serif">to Academy Square (Fire Station) 26 N. Center Street</span></span></span><br />\n	<span style="color: #008000">&nbsp\;<br />\n	<em><span style="font-size: 14pt"><span style="font-family: times new roman\,serif">Free</span></span></em><span style="font-size: 14pt"><span style="font-family: times new roman\,serif">Cookies</span></span><span style="font-size: 14pt"><span style="font-family: times new roman\,serif">&nbsp\;&nbsp\;&nbsp\;&nbsp\;&nbsp\;&nbsp\;&nbsp\;&nbsp\;&nbsp\;&nbsp\;&nbsp\;&nbsp\;&nbsp\;&nbsp\;&nbsp\;&nbsp\;&nbsp\; &nbsp\;&nbsp\;&nbsp\; Meet Santa</span></span><br />\n	<em><span style="font-size: 14pt"><span style="font-family: times new roman\,serif">Free</span></span></em><span style="font-size: 14pt"><span style="font-family: times new roman\,serif">Hot</span></span><span style="font-size: 14pt"><span style="font-family: times new roman\,serif"> Chocolate&nbsp\;&nbsp\;&nbsp\;&nbsp\;&nbsp\;&nbsp\;&nbsp\; &nbsp\;&nbsp\;&nbsp\; after the parade</span></span><br />\n	<em><span style="font-size: 14pt"><span style="font-family: times new roman\,serif">Free</span></span></em><span style="font-size: 14pt"><span style="font-family: times new roman\,serif">Candy</span></span><span style="font-size: 14pt"><span style="font-family: times new roman\,serif"> Canes&nbsp\;&nbsp\;&nbsp\;&nbsp\;&nbsp\;&nbsp\;&nbsp\;&nbsp\; &nbsp\;&nbsp\;&nbsp\; &nbsp\;&nbsp\;&nbsp\;&nbsp\;&nbsp\;&nbsp\;&nbsp\;&nbsp\;&nbsp\;&nbsp\;&nbsp\;at the Fire Station!</span></span></span><br />\n	<span style="color: #ff0000">&nbsp\;<br />\n	<span style="font-size: 14pt"><span style="font-family: britannic bold\,sans-serif">Lighting Ceremony</span></span><br />\n	<span style="font-size: 14pt"><span style="font-family: times new roman\,serif">Will be held after the parade at approximately 6:00 p.m.</span></span><br />\n	<span style="font-size: 14pt"><span style="font-family: times new roman\,serif">Academy Square\, 26 N. Center Street</span></span><br />\n	<span style="font-size: 14pt"><span style="font-family: times new roman\,serif">(Corner of Main and Center Street)</span></span><br />\n	&nbsp\;</span><br />\n	<span style="color: #008000"><span style="font-size: 14pt"><span style="font-family: britannic bold\,sans-serif">Book Fair for the Grantsville City Library</span></span></span><br />\n	<span style="color: #ff0000"><span style="font-size: 14pt"><span style="font-family: times new roman\,serif">The book fair will be held at the Grantsville Fire Station from 3:00 p.m. - 6:00 p.m. All proceeds will go to supply new books for the Grantsville Library. </span></span><br />\n	<span style="font-size: 14pt"><span style="font-family: times new roman\,serif">Get a jumpstart on your Christmas shopping and help support the new library.&nbsp\; </span></span><br />\n	<span style="font-size: 14pt"><span style="font-family: times new roman\,serif">Let&rsquo\;s celebrate reading! </span></span><br />\n	&nbsp\;<br />\n	<span style="font-size: 14pt"><span style="font-family: ravie">Come meet </span></span></span><span style="color: #008000"><span style="font-size: 14pt"><span style="font-family: ravie">Santa Claus</span></span></span><span style="color: #ff0000"><span style="font-size: 14pt"><span style="font-family: ravie">\, stop by the Book Fair to support our new library and enjoy the lighting of the Christmas Lights!</span></span></span><br />\n	Click here to edit...</div>\n
LOCATION:
UID:e.125.4946
SEQUENCE:3
DTSTAMP:20260421T051015Z
URL:https://members.tooelechamber.com/events/details/gransville-parade-11-24-2012-4946
END:VEVENT

END:VCALENDAR
