BEGIN:VCALENDAR
VERSION:2.0
PRODID:-//ChamberMaster//Event Calendar 2.0//EN
METHOD:PUBLISH
X-PUBLISHED-TTL:P3D
REFRESH-INTERVAL:P3D
CALSCALE:GREGORIAN
BEGIN:VEVENT
DTSTART;VALUE=DATE:20090520
DTEND;VALUE=DATE:20090521
TRANSP:TRANSPARENT
X-MICROSOFT-CDO-ALLDAYEVENT:TRUE
SUMMARY:Grantsville City Council Meeting
DESCRIPTION:Grantsville City Council Meeting429 East Main\, Tooele435-884-3411
X-ALT-DESC;FMTTYPE=text/html:<div><div align="center"><font size="5">Grantsville&nbsp\;City Council Meeting</font></div><div align="center"><font size="5">429&nbsp\;East Main\, Tooele</font></div><div align="center"><font size="5">435-884-3411</font></div></div>
LOCATION:
UID:e.125.1249
SEQUENCE:3
DTSTAMP:20260423T232540Z
URL:https://members.tooelechamber.com/events/details/grantsville-city-council-meeting-05-20-2009-1249
END:VEVENT

END:VCALENDAR
