BEGIN:VCALENDAR
VERSION:2.0
PRODID:-//ChamberMaster//Event Calendar 2.0//EN
METHOD:PUBLISH
X-PUBLISHED-TTL:P3D
REFRESH-INTERVAL:P3D
CALSCALE:GREGORIAN
BEGIN:VEVENT
DTSTART:20121004T010000Z
DTEND:20121004T020000Z
X-MICROSOFT-CDO-ALLDAYEVENT:FALSE
SUMMARY:Grantsville City Council Meeting
DESCRIPTION:Grantsville City Council Meetings\n\n7-8 p.m.\n\n429 E Main
X-ALT-DESC;FMTTYPE=text/html:<strong><span style="font-size: 20px">Grantsville City Council Meetings<br />\n7-8 p.m.<br />\n429 E Main</span></strong>
LOCATION:
UID:e.125.4703
SEQUENCE:3
DTSTAMP:20260421T052906Z
URL:https://members.tooelechamber.com/events/details/grantsville-city-council-meeting-10-03-2012-4703
END:VEVENT

END:VCALENDAR
