BEGIN:VCALENDAR
VERSION:2.0
PRODID:-//ChamberMaster//Event Calendar 2.0//EN
METHOD:PUBLISH
X-PUBLISHED-TTL:P3D
REFRESH-INTERVAL:P3D
CALSCALE:GREGORIAN
BEGIN:VEVENT
DTSTART:20120419T010000Z
DTEND:20120419T020000Z
X-MICROSOFT-CDO-ALLDAYEVENT:FALSE
SUMMARY:Grantsville City Council Meetings
DESCRIPTION:Grantsville City Council Meetings\n\n7-8 p.m.
X-ALT-DESC;FMTTYPE=text/html:<span style="font-size: 20px"><strong>Grantsville City Council Meetings<br />\n7-8 p.m.</strong></span>
LOCATION:
UID:e.125.4686
SEQUENCE:3
DTSTAMP:20260421T174144Z
URL:https://members.tooelechamber.com/events/details/grantsville-city-council-meetings-04-18-2012-4686
END:VEVENT

END:VCALENDAR
