BEGIN:VCALENDAR
VERSION:2.0
PRODID:-//ChamberMaster//Event Calendar 2.0//EN
METHOD:PUBLISH
X-PUBLISHED-TTL:P3D
REFRESH-INTERVAL:P3D
CALSCALE:GREGORIAN
BEGIN:VEVENT
DTSTART:20121018T010000Z
DTEND:20121018T020000Z
X-MICROSOFT-CDO-ALLDAYEVENT:FALSE
SUMMARY:Grantsville City Council Meetings
DESCRIPTION:Grantsville City Council Meetings\n\n7-8 p.m.\n\n429 E Main
X-ALT-DESC;FMTTYPE=text/html:<span style="font-size: 20px"><strong>Grantsville City Council Meetings<br />\n7-8 p.m.<br />\n429 E Main</strong></span>
LOCATION:
UID:e.125.4704
SEQUENCE:3
DTSTAMP:20260421T052750Z
URL:https://members.tooelechamber.com/events/details/grantsville-city-council-meetings-10-17-2012-4704
END:VEVENT

END:VCALENDAR
