BEGIN:VCALENDAR
VERSION:2.0
PRODID:-//ChamberMaster//Event Calendar 2.0//EN
METHOD:PUBLISH
X-PUBLISHED-TTL:P3D
REFRESH-INTERVAL:P3D
CALSCALE:GREGORIAN
BEGIN:VEVENT
DTSTART;VALUE=DATE:20100513
DTEND;VALUE=DATE:20100514
TRANSP:TRANSPARENT
X-MICROSOFT-CDO-ALLDAYEVENT:TRUE
SUMMARY:Grantsville City Planning Commission
DESCRIPTION:Grantsville City Planning Commission429 East Main\, Tooele435-884-3411
X-ALT-DESC;FMTTYPE=text/html:<div align="center"><font size="5">Grantsville&nbsp\;City Planning Commission</font></div><div align="center"><font size="5">429 East&nbsp\;Main\, Tooele</font></div><div align="center"><font size="5">435-884-3411</font></div>
LOCATION:
UID:e.125.1373
SEQUENCE:3
DTSTAMP:20260423T062502Z
URL:https://members.tooelechamber.com/events/details/grantsville-city-planning-commission-05-13-2010-1373
END:VEVENT

END:VCALENDAR
