BEGIN:VCALENDAR
VERSION:2.0
PRODID:-//ChamberMaster//Event Calendar 2.0//EN
METHOD:PUBLISH
X-PUBLISHED-TTL:P3D
REFRESH-INTERVAL:P3D
CALSCALE:GREGORIAN
BEGIN:VEVENT
DTSTART:20120113T020000Z
DTEND:20120113T030000Z
X-MICROSOFT-CDO-ALLDAYEVENT:FALSE
SUMMARY:Grantsville City Planning Commission Meeting
DESCRIPTION:Grantsville City Planning Commission Meeting\n\n429 E Main
X-ALT-DESC;FMTTYPE=text/html:<span style="font-size: 20px"><strong>Grantsville City Planning Commission Meeting<br />\n429 E Main</strong></span>
LOCATION:
UID:e.125.4677
SEQUENCE:3
DTSTAMP:20260421T203800Z
URL:https://members.tooelechamber.com/events/details/grantsville-city-planning-commission-meeting-01-12-2012-4677
END:VEVENT

END:VCALENDAR
