BEGIN:VCALENDAR
VERSION:2.0
PRODID:-//ChamberMaster//Event Calendar 2.0//EN
METHOD:PUBLISH
X-PUBLISHED-TTL:P3D
REFRESH-INTERVAL:P3D
CALSCALE:GREGORIAN
BEGIN:VEVENT
DTSTART:20121109T020000Z
DTEND:20121109T030000Z
X-MICROSOFT-CDO-ALLDAYEVENT:FALSE
SUMMARY:Grantsville City Planning Commission Meeting
DESCRIPTION:Grantsville City Planning\n\nCommission Meeting\n\n7-8 p.m.\n\n429 E  Main
X-ALT-DESC;FMTTYPE=text/html:<strong><span style="font-size: 20px">Grantsville City Planning<br />\nCommission Meeting<br />\n7-8 p.m.<br />\n429 E&nbsp\; Main </span></strong>
LOCATION:
UID:e.125.4708
SEQUENCE:3
DTSTAMP:20260421T032347Z
URL:https://members.tooelechamber.com/events/details/grantsville-city-planning-commission-meeting-11-08-2012-4708
END:VEVENT

END:VCALENDAR
