BEGIN:VCALENDAR
VERSION:2.0
PRODID:-//ChamberMaster//Event Calendar 2.0//EN
METHOD:PUBLISH
X-PUBLISHED-TTL:P3D
REFRESH-INTERVAL:P3D
CALSCALE:GREGORIAN
BEGIN:VEVENT
DTSTART:20121012T010000Z
DTEND:20121012T020000Z
X-MICROSOFT-CDO-ALLDAYEVENT:FALSE
SUMMARY:Grantsville City Planning Commission Meetings
DESCRIPTION:Grantsville City Planning\n\n	Commission Meetings\n\n	7-8 p.m.\n\n	429 E Main
X-ALT-DESC;FMTTYPE=text/html:<p>\n	<strong><span style="font-size: 20px">Grantsville City Planning<br />\n	Commission Meetings<br />\n	7-8 p.m.<br />\n	429 E Main</span></strong></p>\n
LOCATION:
UID:e.125.4705
SEQUENCE:3
DTSTAMP:20260421T052709Z
URL:https://members.tooelechamber.com/events/details/grantsville-city-planning-commission-meetings-10-11-2012-4705
END:VEVENT

END:VCALENDAR
