BEGIN:VCALENDAR
VERSION:2.0
PRODID:-//ChamberMaster//Event Calendar 2.0//EN
METHOD:PUBLISH
X-PUBLISHED-TTL:P3D
REFRESH-INTERVAL:P3D
CALSCALE:GREGORIAN
BEGIN:VEVENT
DTSTART;VALUE=DATE:20111126
DTEND;VALUE=DATE:20111127
TRANSP:TRANSPARENT
X-MICROSOFT-CDO-ALLDAYEVENT:TRUE
SUMMARY:Grantsville City Santa Parade
DESCRIPTION:Grantsville City Santa Parade \n\n	Saturday\, November 26\, 2011\n\n	Contact: 435-882-3411
X-ALT-DESC;FMTTYPE=text/html:<p style="text-align: center">\n	<span style="font-size: 20px">Grantsville City Santa Parade </span></p>\n<p style="text-align: center">\n	<span style="font-size: 20px">Saturday\, November 26\, 2011</span></p>\n<p style="text-align: center">\n	<span style="font-size: 20px">Contact: 435-882-3411</span></p>\n
LOCATION:
UID:e.125.3577
SEQUENCE:3
DTSTAMP:20260421T234036Z
URL:https://members.tooelechamber.com/events/details/grantsville-city-santa-parade-11-26-2011-3577
END:VEVENT

END:VCALENDAR
