BEGIN:VCALENDAR
VERSION:2.0
PRODID:-//ChamberMaster//Event Calendar 2.0//EN
METHOD:PUBLISH
X-PUBLISHED-TTL:P3D
REFRESH-INTERVAL:P3D
CALSCALE:GREGORIAN
BEGIN:VEVENT
DTSTART;VALUE=DATE:20100320
DTEND;VALUE=DATE:20100321
TRANSP:TRANSPARENT
X-MICROSOFT-CDO-ALLDAYEVENT:TRUE
SUMMARY:Grantsville Old Folk Sociable
DESCRIPTION:Grantsville Old Folks SociableMarch 20th4-7 Dinner 4-11:30 DancingAny Questions Call~(435)884-6487www.tooelechamber.com
X-ALT-DESC;FMTTYPE=text/html:<div style="margin: 0in 0in 0pt" align="center"><u><span style="font-size: large">Grantsville Old Folks Sociable</span></u></div><div style="margin: 0in 0in 0pt" align="center"><span style="font-size: large">March 20<sup>th</sup></span></div><div style="margin: 0in 0in 0pt" align="center"><span style="font-size: large">4-7 Dinner </span></div><div style="margin: 0in 0in 0pt" align="center"><span style="font-size: large">4-11:30 Dancing</span></div><div style="margin: 0in 0in 0pt" align="center"><span style="font-size: large">Any Questions Call~(435)884-6487</span></div><div style="margin: 0in 0in 0pt" align="center"><span style="font-size: large"><a href="http://www.tooelechamber.com/">www.tooelechamber.com</a></span></div>
LOCATION:
UID:e.125.500
SEQUENCE:3
DTSTAMP:20260423T080558Z
URL:https://members.tooelechamber.com/events/details/grantsville-old-folk-sociable-03-20-2010-500
END:VEVENT

END:VCALENDAR
