BEGIN:VCALENDAR
VERSION:2.0
PRODID:-//ChamberMaster//Event Calendar 2.0//EN
METHOD:PUBLISH
X-PUBLISHED-TTL:P3D
REFRESH-INTERVAL:P3D
CALSCALE:GREGORIAN
BEGIN:VEVENT
DTSTART:20100902T010000Z
DTEND:20100902T020000Z
X-MICROSOFT-CDO-ALLDAYEVENT:FALSE
SUMMARY:Ground Breaking Ceremony
DESCRIPTION:Ground Breaking Ceremony for the St. Marguerite Education Center Wednesday\, September 1\, 2010 @ 7:00pmReception will follow after ceremony The most Reverend John C. Wester will be presiding.
X-ALT-DESC;FMTTYPE=text/html:<div style="text-align: center"><strong><u><span style="font-size: large">Ground Breaking Ceremony for </span></u></strong></div><div style="text-align: center"><strong><u><span style="font-size: large">the St. Marguerite Education Center </span></u></strong></div><div style="text-align: center"><span style="font-size: large">Wednesday\, September 1\, 2010 @ 7:00pm</span></div><div style="text-align: center"><span style="font-size: large">Reception will follow after ceremony </span></div><div style="text-align: center"><span style="font-size: large">The most Reverend John C. Wester will be presiding. </span></div>
LOCATION:
UID:e.125.3235
SEQUENCE:3
DTSTAMP:20260422T215830Z
URL:https://members.tooelechamber.com/events/details/ground-breaking-ceremony-09-01-2010-3235
END:VEVENT

END:VCALENDAR
