BEGIN:VCALENDAR
VERSION:2.0
PRODID:-//ChamberMaster//Event Calendar 2.0//EN
METHOD:PUBLISH
X-PUBLISHED-TTL:P3D
REFRESH-INTERVAL:P3D
CALSCALE:GREGORIAN
BEGIN:VEVENT
DTSTART:20090518T220000Z
DTEND:20090518T220000Z
X-MICROSOFT-CDO-ALLDAYEVENT:FALSE
SUMMARY:Groundbreaking Ceremony for Community Learning Center
DESCRIPTION:Tooele County School District\ncordially invites you to attend\nthe groundbreaking ceremony for \nthe new Community Learning Center\nMonday\, May 18th\, 2009 \n4 pm \nPlease join us for this exciting event at the future site of \nour new campus located south of \nUtah State University Tooele Campus\n1021 West Vine Street
X-ALT-DESC;FMTTYPE=text/html:<p align="center"><font size="4">Tooele County School District<br />cordially invites you to attend<br />the groundbreaking ceremony for <br />the&nbsp\;new Community Learning Center<br /></font><font size="4"><font style="background-color: #ffff00">Monday\, May 18th\, 2009 <br />4 pm <br /></font>Please join us for this exciting event at the future site of <br />our new campus located south of <br />Utah State University Tooele Campus<br />1021 West Vine Street</font></p><p>&nbsp\;</p>
LOCATION:
UID:e.125.2529
SEQUENCE:3
DTSTAMP:20260423T232843Z
URL:https://members.tooelechamber.com/events/details/groundbreaking-ceremony-for-community-learning-center-05-18-2009-2529
END:VEVENT

END:VCALENDAR
