BEGIN:VCALENDAR
VERSION:2.0
PRODID:-//ChamberMaster//Event Calendar 2.0//EN
METHOD:PUBLISH
X-PUBLISHED-TTL:P3D
REFRESH-INTERVAL:P3D
CALSCALE:GREGORIAN
BEGIN:VEVENT
DTSTART:20101202T010000Z
DTEND:20101202T030000Z
X-MICROSOFT-CDO-ALLDAYEVENT:FALSE
SUMMARY:"Grow-up Without Growing Apart"
DESCRIPTION:"Grow-up Without Growing Apart"\n\nWednesday's starting November 3rd - December 1st\n\n(SKIP November 24th)\n\nfrom 6:00-8:00pm\n\nValley Mental Health - Tooele Office\n\n100 South 100 West\n\nRegistration is preffered\n\nPlease call Allies with Families Toll Free @ 1-877-477-0746\n\nor email: konne@allieswithfamilies.org
X-ALT-DESC;FMTTYPE=text/html:<p style="text-align: center"><span style="font-size: 18px">&quot\;Grow-up Without Growing Apart&quot\;<br />\nWednesday&#39\;s starting November 3rd - December 1st<br />\n(SKIP November 24th)<br />\nfrom 6:00-8:00pm<br />\nValley Mental Health - Tooele Office<br />\n100 South 100 West<br />\nRegistration is preffered<br />\nPlease call Allies with Families Toll Free @ 1-877-477-0746<br />\nor email: <a href="mailto:konne@allieswithfamilies.org">konne@allieswithfamilies.org</a> <span _fck_bookmark="1" style="display: none">&nbsp\;</span></span></p>\n
LOCATION:
UID:e.125.3294
SEQUENCE:3
DTSTAMP:20260422T171234Z
URL:https://members.tooelechamber.com/events/details/grow-up-without-growing-apart-12-01-2010-3294
END:VEVENT

END:VCALENDAR
