BEGIN:VCALENDAR
VERSION:2.0
PRODID:-//ChamberMaster//Event Calendar 2.0//EN
METHOD:PUBLISH
X-PUBLISHED-TTL:P3D
REFRESH-INTERVAL:P3D
CALSCALE:GREGORIAN
BEGIN:VEVENT
DTSTART:20140610T160000Z
DTEND:20140610T180000Z
X-MICROSOFT-CDO-ALLDAYEVENT:FALSE
SUMMARY:Guiding Good Choices\, Free Parenting Workshop\, Session 1 Beings at city Hall
DESCRIPTION:Gain Insight into risks facing our Youth
X-ALT-DESC;FMTTYPE=text/html:Gain Insight into risks facing our Youth
LOCATION:Tooele City hall 90 North Main Street Tooele\, UT 84074
UID:e.125.5108
SEQUENCE:3
DTSTAMP:20260419T163424Z
URL:https://members.tooelechamber.com/events/details/guiding-good-choices-free-parenting-workshop-session-1-beings-at-city-hall-06-10-2014-5108
END:VEVENT

END:VCALENDAR
