BEGIN:VCALENDAR
VERSION:2.0
PRODID:-//ChamberMaster//Event Calendar 2.0//EN
METHOD:PUBLISH
X-PUBLISHED-TTL:P3D
REFRESH-INTERVAL:P3D
CALSCALE:GREGORIAN
BEGIN:VEVENT
DTSTART:20121031T220000Z
DTEND:20121101T010000Z
X-MICROSOFT-CDO-ALLDAYEVENT:FALSE
SUMMARY:Halloween Downtown Trick or Treat
DESCRIPTION:HALLOWEEN DOWNTOWN TRICK OR TREAT\n\n\n\nWEDNESDAY\, OCTOBER 31\n\n4-7PM\n\n\n\nCOME TRICK OR TREAT THOUGH DOWNTOWN TOOELE. ALSO TAKE A LOOK THROUGH VETERAN'S PARK~ THERE MAY BE VENDORS SELLING HOT DOGS\, DRINK AND OTHER FUN TREATS!
X-ALT-DESC;FMTTYPE=text/html:<span style="font-size: 20px"><strong><u><span style="color: #ff8c00">HALLOWEEN DOWNTOWN TRICK OR TREAT</span></u></strong><br />\n<br />\nWEDNESDAY\, OCTOBER 31<br />\n4-7PM<br />\n<br />\nCOME TRICK OR TREAT THOUGH DOWNTOWN TOOELE. ALSO TAKE A LOOK THROUGH VETERAN&#39\;S PARK~ THERE MAY BE VENDORS SELLING HOT DOGS\, DRINK AND OTHER FUN TREATS!</span><br />\n<br />\n
LOCATION:
UID:e.125.4935
SEQUENCE:3
DTSTAMP:20260421T052502Z
URL:https://members.tooelechamber.com/events/details/halloween-downtown-trick-or-treat-10-31-2012-4935
END:VEVENT

END:VCALENDAR
