BEGIN:VCALENDAR
VERSION:2.0
PRODID:-//ChamberMaster//Event Calendar 2.0//EN
METHOD:PUBLISH
X-PUBLISHED-TTL:P3D
REFRESH-INTERVAL:P3D
CALSCALE:GREGORIAN
BEGIN:VEVENT
DTSTART;VALUE=DATE:20090529
DTEND;VALUE=DATE:20090601
TRANSP:TRANSPARENT
X-MICROSOFT-CDO-ALLDAYEVENT:TRUE
SUMMARY:HANNSPREE FIM SUPERBIKE WORLD CHAMPIONSHIP
DESCRIPTION:The HANNspree FIM Superbike World Championship\, one of the top three racing series in the world\, returns to Miller Motorsports Park for a second consecutive year.\nThe HANNspree FIM Superbike World Championship is the largest\, fastest\, most exciting and competitive motorcycle racing series to come to Miller Motorsports Park. Your only chance to see these bikes race in America is right here.
X-ALT-DESC;FMTTYPE=text/html:The HANNspree FIM Superbike World Championship\, one of the top three racing series in the world\, returns to Miller Motorsports Park for a second consecutive year.\nThe HANNspree FIM Superbike World Championship is the largest\, fastest\, most exciting and competitive motorcycle racing series to come to Miller Motorsports Park. Your only chance to see these bikes race in America is right here.\n
LOCATION:Miller Motorsports Park
UID:e.125.492
SEQUENCE:3
DTSTAMP:20260423T232537Z
URL:https://members.tooelechamber.com/events/details/hannspree-fim-superbike-world-championship-05-29-2009-492
END:VEVENT

END:VCALENDAR
