BEGIN:VCALENDAR
VERSION:2.0
PRODID:-//ChamberMaster//Event Calendar 2.0//EN
METHOD:PUBLISH
X-PUBLISHED-TTL:P3D
REFRESH-INTERVAL:P3D
CALSCALE:GREGORIAN
BEGIN:VEVENT
DTSTART;VALUE=DATE:20111001
DTEND;VALUE=DATE:20111002
TRANSP:TRANSPARENT
X-MICROSOFT-CDO-ALLDAYEVENT:TRUE
SUMMARY:Harvest Days
DESCRIPTION:Benson Grist Mill Harvest Days\n\n	Contact: 435-882-7678\n\n	www.bensonmill.org
X-ALT-DESC;FMTTYPE=text/html:<p style="text-align: center">\n	<span style="font-size: 24px">Benson Grist Mill Harvest Days<br />\n	Contact: 435-882-7678<br />\n	<a href="http://www.bensonmill.org">www.bensonmill.org</a> </span></p>\n
LOCATION:
UID:e.125.3562
SEQUENCE:3
DTSTAMP:20260422T013346Z
URL:https://members.tooelechamber.com/events/details/harvest-days-10-01-2011-3562
END:VEVENT

END:VCALENDAR
