BEGIN:VCALENDAR
VERSION:2.0
PRODID:-//ChamberMaster//Event Calendar 2.0//EN
METHOD:PUBLISH
X-PUBLISHED-TTL:P3D
REFRESH-INTERVAL:P3D
CALSCALE:GREGORIAN
BEGIN:VEVENT
DTSTART:20131027T070000Z
DTEND:20131027T080000Z
X-MICROSOFT-CDO-ALLDAYEVENT:FALSE
SUMMARY:Haunted History Ride
DESCRIPTION:for people older than 12yrs.
X-ALT-DESC;FMTTYPE=text/html:for people older than 12yrs.\n
LOCATION:Stockton firestation
UID:e.125.5712
SEQUENCE:3
DTSTAMP:20260420T075531Z
URL:https://members.tooelechamber.com/events/details/haunted-history-ride-10-27-2013-5712
END:VEVENT

END:VCALENDAR
