BEGIN:VCALENDAR
VERSION:2.0
PRODID:-//ChamberMaster//Event Calendar 2.0//EN
METHOD:PUBLISH
X-PUBLISHED-TTL:P3D
REFRESH-INTERVAL:P3D
CALSCALE:GREGORIAN
BEGIN:VEVENT
DTSTART;VALUE=DATE:20080920
DTEND;VALUE=DATE:20080921
TRANSP:TRANSPARENT
X-MICROSOFT-CDO-ALLDAYEVENT:TRUE
SUMMARY:Healing Horses and West Desert BackCountry Horsemen RIDE-A-THON
DESCRIPTION:Healing Horses Therapeutic Riding Center is partnering with West Desert BackCountry Horsemen to present our 1st Annual Ride-A-Thon.  Healing Horses provides horseback riding therapy to children and adults with physical\, mental and emotional challenges\, as well as rewarding volunteer opportunities to Tooele County residents.  Participants are asked to collect pledge money to turn in the day of the ride and all money raised will go directly to this non-profit program.  Riders will have the option of a shorter\, easy ride or a longer\, more challenging ride to meet the needs of a variety of participants and their horses.  All riders will receive a goody bag\, a free delicious dinner and a chance at many prizes.  Riders under 16 must be accompanied by an adult.\n\nCome join us for a great trail ride and raise money for an important cause!
X-ALT-DESC;FMTTYPE=text/html:Healing Horses Therapeutic Riding Center is partnering with West Desert BackCountry Horsemen to present our 1st Annual Ride-A-Thon.  Healing Horses provides horseback riding therapy to children and adults with physical\, mental and emotional challenges\, as well as rewarding volunteer opportunities to Tooele County residents.  Participants are asked to collect pledge money to turn in the day of the ride and all money raised will go directly to this non-profit program.  Riders will have the option of a shorter\, easy ride or a longer\, more challenging ride to meet the needs of a variety of participants and their horses.  All riders will receive a goody bag\, a free delicious dinner and a chance at many prizes.  Riders under 16 must be accompanied by an adult.\n\nCome join us for a great trail ride and raise money for an important cause!
LOCATION:Vernon\, UTAH
UID:e.125.384
SEQUENCE:3
DTSTAMP:20260424T123000Z
URL:https://members.tooelechamber.com/events/details/healing-horses-and-west-desert-backcountry-horsemen-ride-a-thon-09-20-2008-384
END:VEVENT

END:VCALENDAR
