BEGIN:VCALENDAR
VERSION:2.0
PRODID:-//ChamberMaster//Event Calendar 2.0//EN
METHOD:PUBLISH
X-PUBLISHED-TTL:P3D
REFRESH-INTERVAL:P3D
CALSCALE:GREGORIAN
BEGIN:VEVENT
DTSTART:20080522T000000Z
DTEND:20080522T030000Z
X-MICROSOFT-CDO-ALLDAYEVENT:FALSE
SUMMARY:Healing Horses Volunteer Training
DESCRIPTION:Healing Horses Therapeutic Riding Center will be holding 4 Wednesday evening sessions to train volunteers to help in our Summer Session.  No horse experience needed.  Ages 12 and up.  You must attend a training session in order to volunteer in our program.
X-ALT-DESC;FMTTYPE=text/html:Healing Horses Therapeutic Riding Center will be holding 4 Wednesday evening sessions to train volunteers to help in our Summer Session.  No horse experience needed.  Ages 12 and up.  You must attend a training session in order to volunteer in our program.
LOCATION:Tooele Bit N Spur Arena\, 600 North and 200 West\, Tooele
UID:e.125.426
SEQUENCE:3
DTSTAMP:20260424T201809Z
URL:https://members.tooelechamber.com/events/details/healing-horses-volunteer-training-05-21-2008-426
END:VEVENT

END:VCALENDAR
