BEGIN:VCALENDAR
VERSION:2.0
PRODID:-//ChamberMaster//Event Calendar 2.0//EN
METHOD:PUBLISH
X-PUBLISHED-TTL:P3D
REFRESH-INTERVAL:P3D
CALSCALE:GREGORIAN
BEGIN:VEVENT
DTSTART:20070406T010000Z
DTEND:20070406T020000Z
X-MICROSOFT-CDO-ALLDAYEVENT:FALSE
SUMMARY:Healthy Chocolate Event
DESCRIPTION:Discover the Healthy Chocolate at La Frontera on Thursday\, April 5 at 7:00 pm.  We will have free appetizers and chocolate samples for you and your guests.  RSVP Ovation Enterprises at 435.882.3289 or by email\, cinnergistic@yahoo.com
X-ALT-DESC;FMTTYPE=text/html:Discover the Healthy Chocolate at La Frontera on Thursday\, April 5 at 7:00 pm.  We will have free appetizers and chocolate samples for you and your guests.  RSVP Ovation Enterprises at 435.882.3289 or by email\, cinnergistic@yahoo.com
LOCATION:La Frontera Mexican Restaurant
UID:e.125.70
SEQUENCE:3
DTSTAMP:20260425T141926Z
URL:https://members.tooelechamber.com/events/details/healthy-chocolate-event-04-05-2007-70
END:VEVENT

END:VCALENDAR
