BEGIN:VCALENDAR
VERSION:2.0
PRODID:-//ChamberMaster//Event Calendar 2.0//EN
METHOD:PUBLISH
X-PUBLISHED-TTL:P3D
REFRESH-INTERVAL:P3D
CALSCALE:GREGORIAN
BEGIN:VEVENT
DTSTART:20090402T220000Z
DTEND:20090403T023000Z
X-MICROSOFT-CDO-ALLDAYEVENT:FALSE
SUMMARY:Healthy Woman Anniversary Event
DESCRIPTION:Healthy Woman Expo:  booths featuring healthcare providers and community resources\nBuffet Dinner:  delicious assortment of entrees and desserts\nProgram featuring Alan Osmond and his wife Suzanne
X-ALT-DESC;FMTTYPE=text/html:Healthy Woman Expo:  booths featuring healthcare providers and community resources\nBuffet Dinner:  delicious assortment of entrees and desserts\nProgram featuring Alan Osmond and his wife Suzanne
LOCATION:Tooele High School
UID:e.125.503
SEQUENCE:3
DTSTAMP:20260424T023342Z
URL:https://members.tooelechamber.com/events/details/healthy-woman-anniversary-event-04-02-2009-503
END:VEVENT

END:VCALENDAR
