BEGIN:VCALENDAR
VERSION:2.0
PRODID:-//ChamberMaster//Event Calendar 2.0//EN
METHOD:PUBLISH
X-PUBLISHED-TTL:P3D
REFRESH-INTERVAL:P3D
CALSCALE:GREGORIAN
BEGIN:VEVENT
DTSTART:20110413T220000Z
DTEND:20110414T030000Z
X-MICROSOFT-CDO-ALLDAYEVENT:FALSE
SUMMARY:Healthy Woman Anniversary Event
DESCRIPTION:Healthy Woman Expo: booths featuring healthcare providers and community resources Buffet Dinner: delicious assortment of entrees and desserts\, \n\n\n\nFeaturing former Biggest Loser Contestant\, Abby Rike\n\n\n\nAbby lost her husband\, 5 year old daughter and 2 week old son in a fatal car crash.  \n\nHer message is "Even in your darkest hour\, there is always hope."  \n\n\n\n\n\n\n	EVENTS\n\n	4:30   6:30 pm   HW Expo\n\n	5:30   7:15 pm   Buffet Dinner\n\n	7:30   9:00 pm   Abby Rike
X-ALT-DESC;FMTTYPE=text/html:Healthy Woman Expo: booths featuring healthcare providers and community resources Buffet Dinner: delicious assortment of entrees and desserts\,&nbsp\;<br />\n<br />\n<span style="font-size: 18pt"><span style="color: green"><span style="font-family: pristina"><strong>Featuring former Biggest Loser Contestant\, Abby Rike</strong></span></span></span><br />\n<br />\n<span style="font-size: 12pt"><span style="font-family: garamond\, serif">Abby lost her husband\, 5 year old daughter and 2 week old son in a fatal car crash. &nbsp\;</span></span><br />\n<span face=""><span style="font-size: 12pt"><span style="font-family: garamond\, serif">Her message is <strong>&quot\;Even in your darkest hour\, there is always hope.&quot\;</strong></span></span></span>&nbsp\;&nbsp\;<br />\n<br />\n<br />\n<p align="center" class="MsoNormal" style="text-align: center\; margin: 0in 0in 0pt\; mso-layout-grid-align: none">\n	<span style="font-size: 22px"><span style="font-family: 'arial'\, 'sans-serif'\; color: black">EVENTS</span></span><span style="font-family: 'arial'\, 'sans-serif'\; color: black\; font-size: 10pt"><o:p></o:p></span></p>\n<p align="center" class="MsoNormal" style="text-align: center\; margin: 0in 0in 0pt\; mso-layout-grid-align: none">\n	<span style="font-size: 22px"><span style="font-family: 'arial'\, 'sans-serif'\; color: black">4:30 &ndash\; 6:30 pm <span style="mso-spacerun: yes">&nbsp\;&nbsp\;</span>HW Expo</span></span><span style="font-family: 'arial'\, 'sans-serif'\; color: black\; font-size: 10pt"><o:p></o:p></span></p>\n<p align="center" class="MsoNormal" style="text-align: center\; margin: 0in 0in 0pt\; mso-layout-grid-align: none">\n	<span style="font-size: 22px"><span style="font-family: 'arial'\, 'sans-serif'\; color: black">5:30 &ndash\; 7:15 pm <span style="mso-spacerun: yes">&nbsp\;&nbsp\;</span>Buffet Dinner</span></span><span style="font-family: 'arial'\, 'sans-serif'\; color: black\; font-size: 10pt"><o:p></o:p></span></p>\n<p align="center" class="MsoNormal" style="text-align: center\; margin: 0in 0in 0pt\; mso-layout-grid-align: none">\n	<span style="font-size: 22px"><span style="font-family: 'arial'\, 'sans-serif'\; color: black">7:30 &ndash\; 9:00 pm <span style="mso-spacerun: yes">&nbsp\;&nbsp\;</span>Abby Rike</span></span><span style="font-family: 'arial'\, 'sans-serif'\; color: black\; font-size: 10pt"><span _fck_bookmark="1" style="display: none">&nbsp\;</span><o:p></o:p></span></p>\n
LOCATION:Tooele High School
UID:e.125.3623
SEQUENCE:3
DTSTAMP:20260422T104703Z
URL:https://members.tooelechamber.com/events/details/healthy-woman-anniversary-event-04-13-2011-3623
END:VEVENT

END:VCALENDAR
