BEGIN:VCALENDAR
VERSION:2.0
PRODID:-//ChamberMaster//Event Calendar 2.0//EN
METHOD:PUBLISH
X-PUBLISHED-TTL:P3D
REFRESH-INTERVAL:P3D
CALSCALE:GREGORIAN
BEGIN:VEVENT
DTSTART:20080508T181500Z
DTEND:20080508T181500Z
X-MICROSOFT-CDO-ALLDAYEVENT:FALSE
SUMMARY:Heritage Financial Group Ribbin Cutting
DESCRIPTION:Heritage Financial Group Ribbon Cutting528 East 2400 North\, TooeleWill be right after Adult Parole & Probation Ribbon Cutting
X-ALT-DESC;FMTTYPE=text/html:<div>Heritage Financial Group Ribbon Cutting</div><div>528 East 2400 North\, Tooele</div><div>Will be right after Adult Parole &amp\; Probation Ribbon Cutting</div>
LOCATION:
UID:e.125.412
SEQUENCE:3
DTSTAMP:20260424T185238Z
URL:https://members.tooelechamber.com/events/details/heritage-financial-group-ribbin-cutting-05-08-2008-412
END:VEVENT

END:VCALENDAR
